BEGIN:VCALENDAR
VERSION:2.0
PRODID:-//St. Mary&#039;s Catholic School - ECPv6.15.15//NONSGML v1.0//EN
CALSCALE:GREGORIAN
METHOD:PUBLISH
X-WR-CALNAME:St. Mary&#039;s Catholic School
X-ORIGINAL-URL:https://stmarysmorris.com
X-WR-CALDESC:Events for St. Mary&#039;s Catholic School
REFRESH-INTERVAL;VALUE=DURATION:PT1H
X-Robots-Tag:noindex
X-PUBLISHED-TTL:PT1H
BEGIN:VTIMEZONE
TZID:America/Chicago
BEGIN:DAYLIGHT
TZOFFSETFROM:-0600
TZOFFSETTO:-0500
TZNAME:CDT
DTSTART:20240310T080000
END:DAYLIGHT
BEGIN:STANDARD
TZOFFSETFROM:-0500
TZOFFSETTO:-0600
TZNAME:CST
DTSTART:20241103T070000
END:STANDARD
BEGIN:DAYLIGHT
TZOFFSETFROM:-0600
TZOFFSETTO:-0500
TZNAME:CDT
DTSTART:20250309T080000
END:DAYLIGHT
BEGIN:STANDARD
TZOFFSETFROM:-0500
TZOFFSETTO:-0600
TZNAME:CST
DTSTART:20251102T070000
END:STANDARD
BEGIN:DAYLIGHT
TZOFFSETFROM:-0600
TZOFFSETTO:-0500
TZNAME:CDT
DTSTART:20260308T080000
END:DAYLIGHT
BEGIN:STANDARD
TZOFFSETFROM:-0500
TZOFFSETTO:-0600
TZNAME:CST
DTSTART:20261101T070000
END:STANDARD
BEGIN:DAYLIGHT
TZOFFSETFROM:-0600
TZOFFSETTO:-0500
TZNAME:CDT
DTSTART:20270314T080000
END:DAYLIGHT
BEGIN:STANDARD
TZOFFSETFROM:-0500
TZOFFSETTO:-0600
TZNAME:CST
DTSTART:20271107T070000
END:STANDARD
END:VTIMEZONE
BEGIN:VEVENT
DTSTART;VALUE=DATE:20260406
DTEND;VALUE=DATE:20260407
DTSTAMP:20260421T171912
CREATED:20250321T173932Z
LAST-MODIFIED:20250321T173932Z
UID:10000095-1775462400-1775494800@stmarysmorris.com
SUMMARY:Easter Break - No School
DESCRIPTION:
URL:https://stmarysmorris.com/event/easter-break-no-school/2026-04-06/
ATTACH;FMTTYPE=image/jpeg:https://stmarysmorris.com/wp-content/uploads/2024/07/AdobeStock_270104879.jpg
END:VEVENT
BEGIN:VEVENT
DTSTART;VALUE=DATE:20260403
DTEND;VALUE=DATE:20260404
DTSTAMP:20260421T171912
CREATED:20250321T182627Z
LAST-MODIFIED:20250321T182627Z
UID:10000113-1775174400-1775260799@stmarysmorris.com
SUMMARY:Good Friday
DESCRIPTION:
URL:https://stmarysmorris.com/event/good-friday-2/
END:VEVENT
BEGIN:VEVENT
DTSTART;VALUE=DATE:20260402
DTEND;VALUE=DATE:20260404
DTSTAMP:20260421T171912
CREATED:20250321T173932Z
LAST-MODIFIED:20250321T173932Z
UID:10000094-1775088000-1775260799@stmarysmorris.com
SUMMARY:Easter Break - No School
DESCRIPTION:
URL:https://stmarysmorris.com/event/easter-break-no-school/2026-04-02/
ATTACH;FMTTYPE=image/jpeg:https://stmarysmorris.com/wp-content/uploads/2024/07/AdobeStock_270104879.jpg
END:VEVENT
BEGIN:VEVENT
DTSTART;VALUE=DATE:20260402
DTEND;VALUE=DATE:20260403
DTSTAMP:20260421T171912
CREATED:20250321T182559Z
LAST-MODIFIED:20250321T182559Z
UID:10000112-1775088000-1775174399@stmarysmorris.com
SUMMARY:Holy Thursday
DESCRIPTION:
URL:https://stmarysmorris.com/event/holy-thursday-2/
ATTACH;FMTTYPE=image/jpeg:https://stmarysmorris.com/wp-content/uploads/2024/07/pexels-pixabay-33786.jpg
END:VEVENT
BEGIN:VEVENT
DTSTART;TZID=America/Chicago:20260401T110000
DTEND;TZID=America/Chicago:20260401T120000
DTSTAMP:20260421T171912
CREATED:20260311T185634Z
LAST-MODIFIED:20260311T185634Z
UID:10000149-1775041200-1775044800@stmarysmorris.com
SUMMARY:Seder Meal
DESCRIPTION:
URL:https://stmarysmorris.com/event/seder-meal-2/
END:VEVENT
BEGIN:VEVENT
DTSTART;TZID=America/Chicago:20260324T170000
DTEND;TZID=America/Chicago:20260324T183000
DTSTAMP:20260421T171912
CREATED:20260217T164851Z
LAST-MODIFIED:20260219T182712Z
UID:10000135-1774371600-1774377000@stmarysmorris.com
SUMMARY:Kindergarten Round-Up
DESCRIPTION:Join us for Kindergarten Round-Up! \n5:00pm – 6:00pm a light dinner will be served\, and you will be able to meet our staff and tour classrooms. at 6:00pm a short 30 minute presentation will take place. \nTo register please email Tanya Fischer\, Principal at principal@stmarysmorris.com
URL:https://stmarysmorris.com/event/kindergarten-round-up-2/
ATTACH;FMTTYPE=image/jpeg:https://stmarysmorris.com/wp-content/uploads/2026/02/Kinder-Header.jpg
END:VEVENT
BEGIN:VEVENT
DTSTART;TZID=America/Chicago:20260324T170000
DTEND;TZID=America/Chicago:20260324T180000
DTSTAMP:20260421T171912
CREATED:20260217T165140Z
LAST-MODIFIED:20260219T183205Z
UID:10000136-1774371600-1774375200@stmarysmorris.com
SUMMARY:Preschool Open House
DESCRIPTION:Join us for Preschool Open House \nThursday\, March 26th from 5:00pm – 6:00pm. A light dinner will be served. Families will have the opportunity to meet with out staff and tour classrooms. \nTo register please contact Tanya Fischer\, Principal at principal@stmarysmorris.com
URL:https://stmarysmorris.com/event/preschool-open-house/
ATTACH;FMTTYPE=image/jpeg:https://stmarysmorris.com/wp-content/uploads/2026/02/Pre-K-Header.jpg
END:VEVENT
BEGIN:VEVENT
DTSTART;VALUE=DATE:20260323
DTEND;VALUE=DATE:20260324
DTSTAMP:20260421T171912
CREATED:20250321T174945Z
LAST-MODIFIED:20250321T174945Z
UID:10000104-1774252800-1774285200@stmarysmorris.com
SUMMARY:No School
DESCRIPTION:
URL:https://stmarysmorris.com/event/no-school-9/2026-03-23/
ATTACH;FMTTYPE=image/jpeg:https://stmarysmorris.com/wp-content/uploads/2024/07/AdobeStock_270104879.jpg
END:VEVENT
BEGIN:VEVENT
DTSTART;VALUE=DATE:20260320
DTEND;VALUE=DATE:20260321
DTSTAMP:20260421T171912
CREATED:20250321T174317Z
LAST-MODIFIED:20250321T174317Z
UID:10000099-1773964800-1774051199@stmarysmorris.com
SUMMARY:End of Quarter 3
DESCRIPTION:
URL:https://stmarysmorris.com/event/end-of-quarter-3-2/
END:VEVENT
BEGIN:VEVENT
DTSTART;VALUE=DATE:20260318
DTEND;VALUE=DATE:20260319
DTSTAMP:20260421T171912
CREATED:20250319T195537Z
LAST-MODIFIED:20250725T180844Z
UID:10000117-1773820800-1773853200@stmarysmorris.com
SUMMARY:Early Out (12:20pm)
DESCRIPTION:
URL:https://stmarysmorris.com/event/early-out-1220pm-9/2026-03-18/
ATTACH;FMTTYPE=image/jpeg:https://stmarysmorris.com/wp-content/uploads/2024/02/event2.jpg
END:VEVENT
BEGIN:VEVENT
DTSTART;TZID=America/Chicago:20260316T180000
DTEND;TZID=America/Chicago:20260316T190000
DTSTAMP:20260421T171912
CREATED:20260218T162455Z
LAST-MODIFIED:20260311T185513Z
UID:10000137-1773684000-1773687600@stmarysmorris.com
SUMMARY:Spring Play
DESCRIPTION:
URL:https://stmarysmorris.com/event/spring-play/
ATTACH;FMTTYPE=image/jpeg:https://stmarysmorris.com/wp-content/uploads/2026/02/Play.jpg
END:VEVENT
BEGIN:VEVENT
DTSTART;TZID=America/Chicago:20260313T163000
DTEND;TZID=America/Chicago:20260313T190000
DTSTAMP:20260421T171912
CREATED:20260217T164136Z
LAST-MODIFIED:20260217T164136Z
UID:10000134-1773419400-1773428400@stmarysmorris.com
SUMMARY:Fish Fry
DESCRIPTION:St. Mary’s Fish Fry \nThe Fish Fry will take place Friday\, March 13th from 4:30pm – 7:00pm (or until fish is gone) at the Morris Legion. Cost is $15 for adults and $8 for kids 12 and under. \nMenu: Fried Fish\, Baked Beans\, Coleslaw\, Dinner Roll\, and Drinks \nDine In or Take Out Only
URL:https://stmarysmorris.com/event/fish-fry/
ATTACH;FMTTYPE=image/jpeg:https://stmarysmorris.com/wp-content/uploads/2026/02/Fish-Fry-FB-Banner1-1.jpg
END:VEVENT
BEGIN:VEVENT
DTSTART;TZID=America/Chicago:20260308T100000
DTEND;TZID=America/Chicago:20260308T110000
DTSTAMP:20260421T171912
CREATED:20250810T182502Z
LAST-MODIFIED:20250810T182502Z
UID:10000125-1772964000-1772967600@stmarysmorris.com
SUMMARY:Pancake Breakfast
DESCRIPTION:Join St. Mary’s students and their families as they host a free-will offering pancake breakfast. \nPancakes\, sausage\, juice\, coffee\, and milk will be served from 10am – 11am in the church basement.
URL:https://stmarysmorris.com/event/pancake-breakfast-2/2026-03-08/
ATTACH;FMTTYPE=image/jpeg:https://stmarysmorris.com/wp-content/uploads/2025/08/Pancake-Breakfast.jpg
END:VEVENT
BEGIN:VEVENT
DTSTART;VALUE=DATE:20260225
DTEND;VALUE=DATE:20260226
DTSTAMP:20260421T171912
CREATED:20250319T195537Z
LAST-MODIFIED:20250725T180844Z
UID:10000116-1772006400-1772038800@stmarysmorris.com
SUMMARY:Early Out (12:20pm)
DESCRIPTION:
URL:https://stmarysmorris.com/event/early-out-1220pm-9/2026-02-25/
ATTACH;FMTTYPE=image/jpeg:https://stmarysmorris.com/wp-content/uploads/2024/02/event2.jpg
END:VEVENT
BEGIN:VEVENT
DTSTART;VALUE=DATE:20260218
DTEND;VALUE=DATE:20260219
DTSTAMP:20260421T171912
CREATED:20250321T175732Z
LAST-MODIFIED:20250321T175732Z
UID:10000111-1771372800-1771459199@stmarysmorris.com
SUMMARY:Ash Wednesday
DESCRIPTION:
URL:https://stmarysmorris.com/event/ash-wednesday-2/
ATTACH;FMTTYPE=image/jpeg:https://stmarysmorris.com/wp-content/uploads/2024/07/thays-orrico-JoCCv4jcoYo-unsplash.jpg
END:VEVENT
BEGIN:VEVENT
DTSTART;VALUE=DATE:20260216
DTEND;VALUE=DATE:20260217
DTSTAMP:20260421T171912
CREATED:20250321T173812Z
LAST-MODIFIED:20250321T173812Z
UID:10000093-1771228800-1771261200@stmarysmorris.com
SUMMARY:No School
DESCRIPTION:
URL:https://stmarysmorris.com/event/no-school-8/2026-02-16/2/
ATTACH;FMTTYPE=image/jpeg:https://stmarysmorris.com/wp-content/uploads/2024/07/AdobeStock_270104879.jpg
END:VEVENT
BEGIN:VEVENT
DTSTART;VALUE=DATE:20260216
DTEND;VALUE=DATE:20260217
DTSTAMP:20260421T171912
CREATED:20250321T173812Z
LAST-MODIFIED:20250321T173812Z
UID:10000092-1771200000-1771286399@stmarysmorris.com
SUMMARY:No School
DESCRIPTION:
URL:https://stmarysmorris.com/event/no-school-8/2026-02-16/1/
ATTACH;FMTTYPE=image/jpeg:https://stmarysmorris.com/wp-content/uploads/2024/07/AdobeStock_270104879.jpg
END:VEVENT
BEGIN:VEVENT
DTSTART;TZID=America/Chicago:20260214T163000
DTEND;TZID=America/Chicago:20260214T220000
DTSTAMP:20260421T171912
CREATED:20250707T141254Z
LAST-MODIFIED:20250707T141254Z
UID:10000120-1771086600-1771106400@stmarysmorris.com
SUMMARY:St. Mary's Annual Dinner & Auction
DESCRIPTION:
URL:https://stmarysmorris.com/event/st-marys-annual-dinner-auction/
END:VEVENT
BEGIN:VEVENT
DTSTART;TZID=America/Chicago:20260130T173000
DTEND;TZID=America/Chicago:20260130T193000
DTSTAMP:20260421T171912
CREATED:20251230T155214Z
LAST-MODIFIED:20251230T155427Z
UID:10000132-1769794200-1769801400@stmarysmorris.com
SUMMARY:Family Fun Night
DESCRIPTION:In conjunction with Catholic Schools Week\, St. Mary’s School will be hosting a Family Fun Night on Friday\, January 30th The event will be held at Crystal Lanes bowling center in Morris from 5:30pm – 7:30pm. \nRegistration details will be sent home with current students prior to the date.
URL:https://stmarysmorris.com/event/family-fun-night-2/
ATTACH;FMTTYPE=image/jpeg:https://stmarysmorris.com/wp-content/uploads/2025/12/Bowling-30th.jpg
END:VEVENT
BEGIN:VEVENT
DTSTART;TZID=America/Chicago:20260129T090000
DTEND;TZID=America/Chicago:20260129T143000
DTSTAMP:20260421T171912
CREATED:20251211T193946Z
LAST-MODIFIED:20251211T193946Z
UID:10000131-1769677200-1769697000@stmarysmorris.com
SUMMARY:Ski Trip To Andes - Catholic Schools Week
DESCRIPTION:
URL:https://stmarysmorris.com/event/ski-trip-to-andes-catholic-schools-week/
END:VEVENT
BEGIN:VEVENT
DTSTART;TZID=America/Chicago:20260129T080000
DTEND;TZID=America/Chicago:20260129T150000
DTSTAMP:20260421T171912
CREATED:20251230T155817Z
LAST-MODIFIED:20251230T155817Z
UID:10000133-1769673600-1769698800@stmarysmorris.com
SUMMARY:All-School Ski Day
DESCRIPTION:In conjunction with Catholic Schools Week\, St Mary’s students and staff will be taking an all-school field trip to Andes Tower Hills in Alexandria\, MN. \nRegistration and details will be sent home with students prior to the date.
URL:https://stmarysmorris.com/event/all-school-ski-day/
ATTACH;FMTTYPE=image/jpeg:https://stmarysmorris.com/wp-content/uploads/2025/12/Ski-Day.jpg
END:VEVENT
BEGIN:VEVENT
DTSTART;TZID=America/Chicago:20260125T100000
DTEND;TZID=America/Chicago:20260125T110000
DTSTAMP:20260421T171912
CREATED:20250810T182502Z
LAST-MODIFIED:20250810T182502Z
UID:10000124-1769335200-1769338800@stmarysmorris.com
SUMMARY:Pancake Breakfast
DESCRIPTION:Join St. Mary’s students and their families as they host a free-will offering pancake breakfast. \nPancakes\, sausage\, juice\, coffee\, and milk will be served from 10am – 11am in the church basement.
URL:https://stmarysmorris.com/event/pancake-breakfast-2/2026-01-25/
ATTACH;FMTTYPE=image/jpeg:https://stmarysmorris.com/wp-content/uploads/2025/08/Pancake-Breakfast.jpg
END:VEVENT
BEGIN:VEVENT
DTSTART;VALUE=DATE:20260125
DTEND;VALUE=DATE:20260201
DTSTAMP:20260421T171912
CREATED:20250321T174414Z
LAST-MODIFIED:20250321T174414Z
UID:10000100-1769299200-1769903999@stmarysmorris.com
SUMMARY:Catholic Schools Week
DESCRIPTION:
URL:https://stmarysmorris.com/event/catholic-schools-week-2/
ATTACH;FMTTYPE=image/png:https://stmarysmorris.com/wp-content/uploads/2024/03/Screenshot-1.png
END:VEVENT
BEGIN:VEVENT
DTSTART;VALUE=DATE:20260119
DTEND;VALUE=DATE:20260120
DTSTAMP:20260421T171912
CREATED:20250321T174945Z
LAST-MODIFIED:20250321T174945Z
UID:10000103-1768809600-1768842000@stmarysmorris.com
SUMMARY:No School
DESCRIPTION:
URL:https://stmarysmorris.com/event/no-school-9/2026-01-19/2/
ATTACH;FMTTYPE=image/jpeg:https://stmarysmorris.com/wp-content/uploads/2024/07/AdobeStock_270104879.jpg
END:VEVENT
BEGIN:VEVENT
DTSTART;VALUE=DATE:20260119
DTEND;VALUE=DATE:20260120
DTSTAMP:20260421T171912
CREATED:20250321T175623Z
LAST-MODIFIED:20250321T175623Z
UID:10000110-1768780800-1768867199@stmarysmorris.com
SUMMARY:Martin Luther King Day
DESCRIPTION:
URL:https://stmarysmorris.com/event/martin-luther-king-day/
END:VEVENT
BEGIN:VEVENT
DTSTART;VALUE=DATE:20260119
DTEND;VALUE=DATE:20260120
DTSTAMP:20260421T171912
CREATED:20250321T174945Z
LAST-MODIFIED:20250321T174945Z
UID:10000102-1768780800-1768867199@stmarysmorris.com
SUMMARY:No School
DESCRIPTION:
URL:https://stmarysmorris.com/event/no-school-9/2026-01-19/1/
ATTACH;FMTTYPE=image/jpeg:https://stmarysmorris.com/wp-content/uploads/2024/07/AdobeStock_270104879.jpg
END:VEVENT
BEGIN:VEVENT
DTSTART;VALUE=DATE:20260116
DTEND;VALUE=DATE:20260117
DTSTAMP:20260421T171912
CREATED:20250321T174247Z
LAST-MODIFIED:20250321T174247Z
UID:10000098-1768521600-1768607999@stmarysmorris.com
SUMMARY:End of Quarter 2
DESCRIPTION:
URL:https://stmarysmorris.com/event/end-of-quarter-2-2/
END:VEVENT
BEGIN:VEVENT
DTSTART;VALUE=DATE:20260112
DTEND;VALUE=DATE:20260117
DTSTAMP:20260421T171912
CREATED:20250707T141209Z
LAST-MODIFIED:20250707T141209Z
UID:10000119-1768176000-1768607999@stmarysmorris.com
SUMMARY:6th Grade ELC Trip
DESCRIPTION:
URL:https://stmarysmorris.com/event/6th-grade-elc-trip/
END:VEVENT
BEGIN:VEVENT
DTSTART;VALUE=DATE:20260101
DTEND;VALUE=DATE:20260102
DTSTAMP:20260421T171912
CREATED:20250321T175545Z
LAST-MODIFIED:20250321T175545Z
UID:10000109-1767225600-1767311999@stmarysmorris.com
SUMMARY:New Year's Day
DESCRIPTION:
URL:https://stmarysmorris.com/event/new-years-day-2/
END:VEVENT
BEGIN:VEVENT
DTSTART;VALUE=DATE:20251225
DTEND;VALUE=DATE:20251226
DTSTAMP:20260421T171912
CREATED:20250321T175506Z
LAST-MODIFIED:20250321T175506Z
UID:10000108-1766620800-1766707199@stmarysmorris.com
SUMMARY:Christmas Day
DESCRIPTION:
URL:https://stmarysmorris.com/event/christmas-day/
ATTACH;FMTTYPE=image/jpeg:https://stmarysmorris.com/wp-content/uploads/2024/07/myriam-zilles-VCD30upyhc8-unsplash.jpg
END:VEVENT
END:VCALENDAR