BEGIN:VCALENDAR
VERSION:2.0
PRODID:-//St. Mary&#039;s Catholic School - ECPv6.15.15//NONSGML v1.0//EN
CALSCALE:GREGORIAN
METHOD:PUBLISH
X-WR-CALNAME:St. Mary&#039;s Catholic School
X-ORIGINAL-URL:https://stmarysmorris.com
X-WR-CALDESC:Events for St. Mary&#039;s Catholic School
REFRESH-INTERVAL;VALUE=DURATION:PT1H
X-Robots-Tag:noindex
X-PUBLISHED-TTL:PT1H
BEGIN:VTIMEZONE
TZID:America/Chicago
BEGIN:DAYLIGHT
TZOFFSETFROM:-0600
TZOFFSETTO:-0500
TZNAME:CDT
DTSTART:20240310T080000
END:DAYLIGHT
BEGIN:STANDARD
TZOFFSETFROM:-0500
TZOFFSETTO:-0600
TZNAME:CST
DTSTART:20241103T070000
END:STANDARD
BEGIN:DAYLIGHT
TZOFFSETFROM:-0600
TZOFFSETTO:-0500
TZNAME:CDT
DTSTART:20250309T080000
END:DAYLIGHT
BEGIN:STANDARD
TZOFFSETFROM:-0500
TZOFFSETTO:-0600
TZNAME:CST
DTSTART:20251102T070000
END:STANDARD
BEGIN:DAYLIGHT
TZOFFSETFROM:-0600
TZOFFSETTO:-0500
TZNAME:CDT
DTSTART:20260308T080000
END:DAYLIGHT
BEGIN:STANDARD
TZOFFSETFROM:-0500
TZOFFSETTO:-0600
TZNAME:CST
DTSTART:20261101T070000
END:STANDARD
END:VTIMEZONE
BEGIN:VEVENT
DTSTART;TZID=America/Chicago:20251204T171500
DTEND;TZID=America/Chicago:20251204T190000
DTSTAMP:20260421T210135
CREATED:20251111T170336Z
LAST-MODIFIED:20251111T170336Z
UID:10000130-1764868500-1764874800@stmarysmorris.com
SUMMARY:Holiday Family Fun Night
DESCRIPTION:St. Mary’s students and families are encouraged to attend our holiday themed Family Fun Night on Thursday\, December 4th. \nThe event will be hosted at St. Mary’s School\, an a light dinner will be served. More details will be sent home with students closer to the event.
URL:https://stmarysmorris.com/event/holiday-family-fun-night/
ATTACH;FMTTYPE=image/jpeg:https://stmarysmorris.com/wp-content/uploads/2025/11/Winter-Family-Fun-Night.jpg
END:VEVENT
BEGIN:VEVENT
DTSTART;VALUE=DATE:20251128
DTEND;VALUE=DATE:20251129
DTSTAMP:20260421T210135
CREATED:20250321T173446Z
LAST-MODIFIED:20250321T173446Z
UID:10000090-1764316800-1764349200@stmarysmorris.com
SUMMARY:No School
DESCRIPTION:
URL:https://stmarysmorris.com/event/no-school-6/2025-11-28/
ATTACH;FMTTYPE=image/jpeg:https://stmarysmorris.com/wp-content/uploads/2024/07/AdobeStock_270104879.jpg
END:VEVENT
BEGIN:VEVENT
DTSTART;VALUE=DATE:20251127
DTEND;VALUE=DATE:20251128
DTSTAMP:20260421T210135
CREATED:20250321T173446Z
LAST-MODIFIED:20250321T173446Z
UID:10000089-1764230400-1764262800@stmarysmorris.com
SUMMARY:No School
DESCRIPTION:
URL:https://stmarysmorris.com/event/no-school-6/2025-11-27/
ATTACH;FMTTYPE=image/jpeg:https://stmarysmorris.com/wp-content/uploads/2024/07/AdobeStock_270104879.jpg
END:VEVENT
BEGIN:VEVENT
DTSTART;VALUE=DATE:20251127
DTEND;VALUE=DATE:20251128
DTSTAMP:20260421T210135
CREATED:20250321T175337Z
LAST-MODIFIED:20250321T175337Z
UID:10000106-1764201600-1764287999@stmarysmorris.com
SUMMARY:Thanksgiving Day
DESCRIPTION:
URL:https://stmarysmorris.com/event/thanksgiving-day-2/
ATTACH;FMTTYPE=image/jpeg:https://stmarysmorris.com/wp-content/uploads/2024/07/thanksgiving-dinner-7600226_1280.jpg
END:VEVENT
BEGIN:VEVENT
DTSTART;VALUE=DATE:20251126
DTEND;VALUE=DATE:20251127
DTSTAMP:20260421T210135
CREATED:20250319T195537Z
LAST-MODIFIED:20250725T180844Z
UID:10000074-1764144000-1764176400@stmarysmorris.com
SUMMARY:Early Out (12:20pm)
DESCRIPTION:
URL:https://stmarysmorris.com/event/early-out-1220pm-9/2025-11-26/
ATTACH;FMTTYPE=image/jpeg:https://stmarysmorris.com/wp-content/uploads/2024/02/event2.jpg
END:VEVENT
BEGIN:VEVENT
DTSTART;VALUE=DATE:20251111
DTEND;VALUE=DATE:20251112
DTSTAMP:20260421T210135
CREATED:20250321T175251Z
LAST-MODIFIED:20250321T175251Z
UID:10000105-1762819200-1762905599@stmarysmorris.com
SUMMARY:Veterans Day
DESCRIPTION:
URL:https://stmarysmorris.com/event/veterans-day-2/
ATTACH;FMTTYPE=image/jpeg:https://stmarysmorris.com/wp-content/uploads/2024/07/memorial-day-1798725_1280.jpg
END:VEVENT
BEGIN:VEVENT
DTSTART;VALUE=DATE:20251107
DTEND;VALUE=DATE:20251108
DTSTAMP:20260421T210135
CREATED:20250321T173446Z
LAST-MODIFIED:20250321T173446Z
UID:10000088-1762502400-1762534800@stmarysmorris.com
SUMMARY:No School
DESCRIPTION:
URL:https://stmarysmorris.com/event/no-school-6/2025-11-07/
ATTACH;FMTTYPE=image/jpeg:https://stmarysmorris.com/wp-content/uploads/2024/07/AdobeStock_270104879.jpg
END:VEVENT
BEGIN:VEVENT
DTSTART;VALUE=DATE:20251106
DTEND;VALUE=DATE:20251107
DTSTAMP:20260421T210135
CREATED:20250321T174141Z
LAST-MODIFIED:20250321T174141Z
UID:10000097-1762387200-1762473599@stmarysmorris.com
SUMMARY:Parent Teacher Conferences
DESCRIPTION:
URL:https://stmarysmorris.com/event/parent-teacher-conferences-2/
END:VEVENT
BEGIN:VEVENT
DTSTART;VALUE=DATE:20251031
DTEND;VALUE=DATE:20251101
DTSTAMP:20260421T210135
CREATED:20250321T174814Z
LAST-MODIFIED:20250725T180234Z
UID:10000101-1761868800-1761955199@stmarysmorris.com
SUMMARY:No School - Teacher Work Day
DESCRIPTION:
URL:https://stmarysmorris.com/event/end-of-quarter-1/
END:VEVENT
BEGIN:VEVENT
DTSTART;VALUE=DATE:20251030
DTEND;VALUE=DATE:20251031
DTSTAMP:20260421T210135
CREATED:20250707T141109Z
LAST-MODIFIED:20250707T141109Z
UID:10000118-1761782400-1761868799@stmarysmorris.com
SUMMARY:End of First Quarter
DESCRIPTION:
URL:https://stmarysmorris.com/event/end-of-first-quarter/
END:VEVENT
BEGIN:VEVENT
DTSTART;VALUE=DATE:20251017
DTEND;VALUE=DATE:20251018
DTSTAMP:20260421T210135
CREATED:20250321T173446Z
LAST-MODIFIED:20250321T173446Z
UID:10000087-1760688000-1760720400@stmarysmorris.com
SUMMARY:No School
DESCRIPTION:
URL:https://stmarysmorris.com/event/no-school-6/2025-10-17/
ATTACH;FMTTYPE=image/jpeg:https://stmarysmorris.com/wp-content/uploads/2024/07/AdobeStock_270104879.jpg
END:VEVENT
BEGIN:VEVENT
DTSTART;VALUE=DATE:20251016
DTEND;VALUE=DATE:20251017
DTSTAMP:20260421T210135
CREATED:20250321T173446Z
LAST-MODIFIED:20250321T173446Z
UID:10000086-1760572800-1760659199@stmarysmorris.com
SUMMARY:No School
DESCRIPTION:
URL:https://stmarysmorris.com/event/no-school-6/2025-10-16/
ATTACH;FMTTYPE=image/jpeg:https://stmarysmorris.com/wp-content/uploads/2024/07/AdobeStock_270104879.jpg
END:VEVENT
BEGIN:VEVENT
DTSTART;VALUE=DATE:20251015
DTEND;VALUE=DATE:20251016
DTSTAMP:20260421T210135
CREATED:20250319T195537Z
LAST-MODIFIED:20250725T180844Z
UID:10000072-1760515200-1760547600@stmarysmorris.com
SUMMARY:Early Out (12:20pm)
DESCRIPTION:
URL:https://stmarysmorris.com/event/early-out-1220pm-9/2025-10-15/
ATTACH;FMTTYPE=image/jpeg:https://stmarysmorris.com/wp-content/uploads/2024/02/event2.jpg
END:VEVENT
BEGIN:VEVENT
DTSTART;TZID=America/Chicago:20251013T080000
DTEND;TZID=America/Chicago:20251013T153000
DTSTAMP:20260421T210135
CREATED:20250810T183739Z
LAST-MODIFIED:20250810T183739Z
UID:10000126-1760342400-1760369400@stmarysmorris.com
SUMMARY:All School Field Trip
DESCRIPTION:The SMS all-school field trip will be held on Monday\, October 13th. \nLocation and details will be sent home with each student at the start of the academic year.
URL:https://stmarysmorris.com/event/all-school-field-trip/
ATTACH;FMTTYPE=image/jpeg:https://stmarysmorris.com/wp-content/uploads/2025/08/215115-dd5d1588-f461-4dec-85f1-14b35cc7445b.jpg
END:VEVENT
BEGIN:VEVENT
DTSTART;TZID=America/Chicago:20251012T100000
DTEND;TZID=America/Chicago:20251012T110000
DTSTAMP:20260421T210135
CREATED:20250810T182502Z
LAST-MODIFIED:20250810T182502Z
UID:10000122-1760263200-1760266800@stmarysmorris.com
SUMMARY:Pancake Breakfast
DESCRIPTION:Join St. Mary’s students and their families as they host a free-will offering pancake breakfast. \nPancakes\, sausage\, juice\, coffee\, and milk will be served from 10am – 11am in the church basement.
URL:https://stmarysmorris.com/event/pancake-breakfast-2/2025-10-12/
ATTACH;FMTTYPE=image/jpeg:https://stmarysmorris.com/wp-content/uploads/2025/08/Pancake-Breakfast.jpg
END:VEVENT
BEGIN:VEVENT
DTSTART;VALUE=DATE:20251010
DTEND;VALUE=DATE:20251011
DTSTAMP:20260421T210135
CREATED:20250319T200810Z
LAST-MODIFIED:20250319T200810Z
UID:10000084-1760054400-1760140799@stmarysmorris.com
SUMMARY:Grandparents & Special Friends Day
DESCRIPTION:
URL:https://stmarysmorris.com/event/grandparents-special-friends-day/
ATTACH;FMTTYPE=image/jpeg:https://stmarysmorris.com/wp-content/uploads/2025/03/images.jpg
END:VEVENT
BEGIN:VEVENT
DTSTART;TZID=America/Chicago:20251006T080000
DTEND;TZID=America/Chicago:20251012T170000
DTSTAMP:20260421T210135
CREATED:20250319T201104Z
LAST-MODIFIED:20250319T201104Z
UID:10000085-1759737600-1760288400@stmarysmorris.com
SUMMARY:Scholastic Book Fair
DESCRIPTION:
URL:https://stmarysmorris.com/event/scholastic-book-fair/
ATTACH;FMTTYPE=image/jpeg:https://stmarysmorris.com/wp-content/uploads/2025/03/Red-And-White-Illustration-Colorful-Book-Fair-Instagram-Post1.jpg
END:VEVENT
BEGIN:VEVENT
DTSTART;TZID=America/Chicago:20251001T080000
DTEND;TZID=America/Chicago:20251001T170000
DTSTAMP:20260421T210135
CREATED:20250725T180343Z
LAST-MODIFIED:20250725T180355Z
UID:10000121-1759305600-1759338000@stmarysmorris.com
SUMMARY:Picture ReTake Day
DESCRIPTION:
URL:https://stmarysmorris.com/event/pocture-retake-day/
END:VEVENT
BEGIN:VEVENT
DTSTART;TZID=America/Chicago:20250921T090000
DTEND;TZID=America/Chicago:20250921T150000
DTSTAMP:20260421T210135
CREATED:20250902T161425Z
LAST-MODIFIED:20250902T161457Z
UID:10000129-1758445200-1758466800@stmarysmorris.com
SUMMARY:Septemberfest
DESCRIPTION:MASS AT 10:00 A.M.Come enjoy food\, fun and fellowship with us at our annual Septemberfest celebration. Early bird shopping starts at 9:00\, mass at 10:00\, dinner at 11:00. Silent auction\, raffles\, food\, food and more food! Vikings game\, beer gardens\, children’s carnival\, yard games!
URL:https://stmarysmorris.com/event/septemberfest-2/
ATTACH;FMTTYPE=image/jpeg:https://stmarysmorris.com/wp-content/uploads/2025/09/September-Fest.jpg
END:VEVENT
BEGIN:VEVENT
DTSTART;VALUE=DATE:20250917
DTEND;VALUE=DATE:20250918
DTSTAMP:20260421T210135
CREATED:20250319T195537Z
LAST-MODIFIED:20250725T180844Z
UID:10000071-1758067200-1758153599@stmarysmorris.com
SUMMARY:Early Out (12:20pm)
DESCRIPTION:
URL:https://stmarysmorris.com/event/early-out-1220pm-9/2025-09-17/
ATTACH;FMTTYPE=image/jpeg:https://stmarysmorris.com/wp-content/uploads/2024/02/event2.jpg
END:VEVENT
BEGIN:VEVENT
DTSTART;VALUE=DATE:20250909
DTEND;VALUE=DATE:20250910
DTSTAMP:20260421T210135
CREATED:20250319T200603Z
LAST-MODIFIED:20250319T200603Z
UID:10000083-1757376000-1757462399@stmarysmorris.com
SUMMARY:Picture Day
DESCRIPTION:
URL:https://stmarysmorris.com/event/picture-day-2/
ATTACH;FMTTYPE=image/jpeg:https://stmarysmorris.com/wp-content/uploads/2024/07/pexels-marx-ilagan-1091294.jpg
END:VEVENT
BEGIN:VEVENT
DTSTART;VALUE=DATE:20250902
DTEND;VALUE=DATE:20250903
DTSTAMP:20260421T210135
CREATED:20250319T200501Z
LAST-MODIFIED:20250319T200501Z
UID:10000082-1756771200-1756857599@stmarysmorris.com
SUMMARY:First Day of School
DESCRIPTION:
URL:https://stmarysmorris.com/event/first-day-of-school-2/
ATTACH;FMTTYPE=image/png:https://stmarysmorris.com/wp-content/uploads/2024/03/Welcome-Back-to-School-Facebook-Post.png
END:VEVENT
BEGIN:VEVENT
DTSTART;VALUE=DATE:20250901
DTEND;VALUE=DATE:20250902
DTSTAMP:20260421T210135
CREATED:20250319T195730Z
LAST-MODIFIED:20250319T195730Z
UID:10000081-1756684800-1756771199@stmarysmorris.com
SUMMARY:Labor Day
DESCRIPTION:
URL:https://stmarysmorris.com/event/labor-day-2/
ATTACH;FMTTYPE=image/jpeg:https://stmarysmorris.com/wp-content/uploads/2024/07/pexels-brett-sayles-1069000.jpg
END:VEVENT
BEGIN:VEVENT
DTSTART;TZID=America/Chicago:20250826T163000
DTEND;TZID=America/Chicago:20250826T193000
DTSTAMP:20260421T210135
CREATED:20250310T185501Z
LAST-MODIFIED:20250310T185501Z
UID:10000068-1756225800-1756236600@stmarysmorris.com
SUMMARY:Back to School Open House
DESCRIPTION:
URL:https://stmarysmorris.com/event/back-to-school-open-house/
ATTACH;FMTTYPE=image/jpeg:https://stmarysmorris.com/wp-content/uploads/2025/03/1.jpg
END:VEVENT
BEGIN:VEVENT
DTSTART;TZID=America/Chicago:20250819T080000
DTEND;TZID=America/Chicago:20250821T153000
DTSTAMP:20260421T210135
CREATED:20250310T185149Z
LAST-MODIFIED:20250723T180243Z
UID:10000067-1755590400-1755790200@stmarysmorris.com
SUMMARY:Teacher Workshop Days
DESCRIPTION:
URL:https://stmarysmorris.com/event/teacher-workshop-days/
ATTACH;FMTTYPE=image/jpeg:https://stmarysmorris.com/wp-content/uploads/2024/04/supplies.jpg
END:VEVENT
BEGIN:VEVENT
DTSTART;TZID=America/Chicago:20250815T140000
DTEND;TZID=America/Chicago:20250815T190000
DTSTAMP:20260421T210135
CREATED:20250330T190820Z
LAST-MODIFIED:20250330T190820Z
UID:10000115-1755266400-1755284400@stmarysmorris.com
SUMMARY:5th Annual St. Mary's Education Fund Golf Tournament
DESCRIPTION:Save the date for this FUN event as we raise funds for the St. Mary’s Education Fund\, an endowment that supports the school!\nMore details to come! Follow our Facebook Page for the latest updates. ALL are welcome (no age restrictions to play)! We would love to see St. Mary’s Alumni out there
URL:https://stmarysmorris.com/event/5th-annual-st-marys-education-fund-golf-tournament/
END:VEVENT
BEGIN:VEVENT
DTSTART;VALUE=DATE:20250526
DTEND;VALUE=DATE:20250527
DTSTAMP:20260421T210135
CREATED:20240709T153438Z
LAST-MODIFIED:20240709T153438Z
UID:10000026-1748217600-1748303999@stmarysmorris.com
SUMMARY:Memorial Day
DESCRIPTION:
URL:https://stmarysmorris.com/event/memorial-day/
ATTACH;FMTTYPE=image/jpeg:https://stmarysmorris.com/wp-content/uploads/2024/07/justin-casey-czUZsoee6XI-unsplash.jpg
END:VEVENT
BEGIN:VEVENT
DTSTART;VALUE=DATE:20250523
DTEND;VALUE=DATE:20250524
DTSTAMP:20260421T210135
CREATED:20240709T153406Z
LAST-MODIFIED:20240709T153406Z
UID:10000025-1747958400-1748044799@stmarysmorris.com
SUMMARY:Last Day of School
DESCRIPTION:
URL:https://stmarysmorris.com/event/last-day-of-school/
ATTACH;FMTTYPE=image/jpeg:https://stmarysmorris.com/wp-content/uploads/2024/07/AdobeStock_331000141.jpg
END:VEVENT
BEGIN:VEVENT
DTSTART;TZID=America/Chicago:20250522T140000
DTEND;TZID=America/Chicago:20250522T150000
DTSTAMP:20260421T210135
CREATED:20250307T174534Z
LAST-MODIFIED:20250307T174534Z
UID:10000066-1747922400-1747926000@stmarysmorris.com
SUMMARY:Preschool & Kindergarten Graduation
DESCRIPTION:A graduation ceremony for our preschool and kindergarten classes will be held on May 22nd at 2:00pm
URL:https://stmarysmorris.com/event/preschool-kindergarten-graduation/
ATTACH;FMTTYPE=image/jpeg:https://stmarysmorris.com/wp-content/uploads/2025/03/istockphoto-487467657-612x612-1.jpg
END:VEVENT
BEGIN:VEVENT
DTSTART;TZID=America/Chicago:20250521T183000
DTEND;TZID=America/Chicago:20250521T193000
DTSTAMP:20260421T210135
CREATED:20250307T174417Z
LAST-MODIFIED:20250307T174417Z
UID:10000065-1747852200-1747855800@stmarysmorris.com
SUMMARY:6th Grade Graduation
DESCRIPTION:Mass and graduation for the Class of 2025 will be held on May 21st at 6:30pm
URL:https://stmarysmorris.com/event/6th-grade-graduation/
ATTACH;FMTTYPE=image/jpeg:https://stmarysmorris.com/wp-content/uploads/2025/03/istockphoto-487467657-612x612-1.jpg
END:VEVENT
END:VCALENDAR