BEGIN:VCALENDAR
VERSION:2.0
PRODID:-//St. Mary&#039;s Catholic School - ECPv6.15.15//NONSGML v1.0//EN
CALSCALE:GREGORIAN
METHOD:PUBLISH
X-WR-CALNAME:St. Mary&#039;s Catholic School
X-ORIGINAL-URL:https://stmarysmorris.com
X-WR-CALDESC:Events for St. Mary&#039;s Catholic School
REFRESH-INTERVAL;VALUE=DURATION:PT1H
X-Robots-Tag:noindex
X-PUBLISHED-TTL:PT1H
BEGIN:VTIMEZONE
TZID:America/Chicago
BEGIN:DAYLIGHT
TZOFFSETFROM:-0600
TZOFFSETTO:-0500
TZNAME:CDT
DTSTART:20230312T080000
END:DAYLIGHT
BEGIN:STANDARD
TZOFFSETFROM:-0500
TZOFFSETTO:-0600
TZNAME:CST
DTSTART:20231105T070000
END:STANDARD
BEGIN:DAYLIGHT
TZOFFSETFROM:-0600
TZOFFSETTO:-0500
TZNAME:CDT
DTSTART:20240310T080000
END:DAYLIGHT
BEGIN:STANDARD
TZOFFSETFROM:-0500
TZOFFSETTO:-0600
TZNAME:CST
DTSTART:20241103T070000
END:STANDARD
BEGIN:DAYLIGHT
TZOFFSETFROM:-0600
TZOFFSETTO:-0500
TZNAME:CDT
DTSTART:20250309T080000
END:DAYLIGHT
BEGIN:STANDARD
TZOFFSETFROM:-0500
TZOFFSETTO:-0600
TZNAME:CST
DTSTART:20251102T070000
END:STANDARD
BEGIN:DAYLIGHT
TZOFFSETFROM:-0600
TZOFFSETTO:-0500
TZNAME:CDT
DTSTART:20260308T080000
END:DAYLIGHT
BEGIN:STANDARD
TZOFFSETFROM:-0500
TZOFFSETTO:-0600
TZNAME:CST
DTSTART:20261101T070000
END:STANDARD
END:VTIMEZONE
BEGIN:VEVENT
DTSTART;VALUE=DATE:20250305
DTEND;VALUE=DATE:20250306
DTSTAMP:20260422T055415
CREATED:20240709T153116Z
LAST-MODIFIED:20240709T153116Z
UID:10000020-1741132800-1741219199@stmarysmorris.com
SUMMARY:Ash Wednesday
DESCRIPTION:
URL:https://stmarysmorris.com/event/ash-wednesday/
ATTACH;FMTTYPE=image/jpeg:https://stmarysmorris.com/wp-content/uploads/2024/07/thays-orrico-JoCCv4jcoYo-unsplash.jpg
END:VEVENT
BEGIN:VEVENT
DTSTART;VALUE=DATE:20250217
DTEND;VALUE=DATE:20250218
DTSTAMP:20260422T055415
CREATED:20240709T155425Z
LAST-MODIFIED:20240709T155425Z
UID:10000042-1739750400-1739836799@stmarysmorris.com
SUMMARY:No School
DESCRIPTION:
URL:https://stmarysmorris.com/event/no-school-4/
ATTACH;FMTTYPE=image/jpeg:https://stmarysmorris.com/wp-content/uploads/2024/07/AdobeStock_270104879.jpg
END:VEVENT
BEGIN:VEVENT
DTSTART;VALUE=DATE:20250217
DTEND;VALUE=DATE:20250218
DTSTAMP:20260422T055415
CREATED:20240709T152110Z
LAST-MODIFIED:20240709T152110Z
UID:10000019-1739750400-1739836799@stmarysmorris.com
SUMMARY:Presidents Day
DESCRIPTION:
URL:https://stmarysmorris.com/event/presidents-day/
ATTACH;FMTTYPE=image/jpeg:https://stmarysmorris.com/wp-content/uploads/2024/07/ronda-darby-HbMLSB-uhQY-unsplash.jpg
END:VEVENT
BEGIN:VEVENT
DTSTART;VALUE=DATE:20250210
DTEND;VALUE=DATE:20250215
DTSTAMP:20260422T055415
CREATED:20240709T152046Z
LAST-MODIFIED:20240709T152139Z
UID:10000018-1739145600-1739577599@stmarysmorris.com
SUMMARY:6th grade ELC
DESCRIPTION:
URL:https://stmarysmorris.com/event/6th-grade-elc/
ATTACH;FMTTYPE=image/jpeg:https://stmarysmorris.com/wp-content/uploads/2024/07/apple-256261_1280.jpg
END:VEVENT
BEGIN:VEVENT
DTSTART;TZID=America/Chicago:20250208T160000
DTEND;TZID=America/Chicago:20250208T220000
DTSTAMP:20260422T055415
CREATED:20250106T223705Z
LAST-MODIFIED:20250107T003326Z
UID:10000062-1739030400-1739052000@stmarysmorris.com
SUMMARY:SMS Dinner & Auction
DESCRIPTION:Save the date!St. Mary’s School Annual Dinner & AuctionSaturday\, February 8th\nJoin us for a fun evening and help us raise some money for St. Mary’s School!\n4pm Cocktail Hour and Silent Auction Begins6pm Dinner & Dessert7pm Live Auction Begins\nTickets are $25 and can be purchased at St. Mary’s School or from any current St. Mary’s family.
URL:https://stmarysmorris.com/event/sms-dinner-auction/
ATTACH;FMTTYPE=image/jpeg:https://stmarysmorris.com/wp-content/uploads/2025/01/Auction-Header.jpg
END:VEVENT
BEGIN:VEVENT
DTSTART;VALUE=DATE:20250205
DTEND;VALUE=DATE:20250206
DTSTAMP:20260422T055415
CREATED:20240709T155340Z
LAST-MODIFIED:20240709T155340Z
UID:10000041-1738713600-1738799999@stmarysmorris.com
SUMMARY:Early Out (12:20pm)
DESCRIPTION:
URL:https://stmarysmorris.com/event/early-out-1220pm-6/
ATTACH;FMTTYPE=image/jpeg:https://stmarysmorris.com/wp-content/uploads/2024/02/event2.jpg
END:VEVENT
BEGIN:VEVENT
DTSTART;TZID=America/Chicago:20250131T173000
DTEND;TZID=America/Chicago:20250131T193000
DTSTAMP:20260422T055415
CREATED:20241125T150108Z
LAST-MODIFIED:20250107T003703Z
UID:10000061-1738344600-1738351800@stmarysmorris.com
SUMMARY:Family Fun Night
DESCRIPTION:Save the date! Help us celebrate the last day of Catholic Schools Week. Fun for the entire family at the Lee Community Center in Morris. The event includes ice skating (rentals available)\, hot cocoa\, and a light dinner for SMS families.
URL:https://stmarysmorris.com/event/family-fun-night/
ATTACH;FMTTYPE=image/jpeg:https://stmarysmorris.com/wp-content/uploads/2024/11/Family-Fun-Night-CSW1.jpg
END:VEVENT
BEGIN:VEVENT
DTSTART;VALUE=DATE:20250130
DTEND;VALUE=DATE:20250131
DTSTAMP:20260422T055415
CREATED:20240709T152007Z
LAST-MODIFIED:20240709T152007Z
UID:10000017-1738195200-1738281599@stmarysmorris.com
SUMMARY:Ski Day
DESCRIPTION:
URL:https://stmarysmorris.com/event/ski-day/
ATTACH;FMTTYPE=image/jpeg:https://stmarysmorris.com/wp-content/uploads/2024/07/glade-optics-VCx6RIAZSB8-unsplash.jpg
END:VEVENT
BEGIN:VEVENT
DTSTART;TZID=America/Chicago:20250126T100000
DTEND;TZID=America/Chicago:20250126T110000
DTSTAMP:20260422T055415
CREATED:20240814T154657Z
LAST-MODIFIED:20240814T154657Z
UID:10000054-1737885600-1737889200@stmarysmorris.com
SUMMARY:Pancake Breakfast
DESCRIPTION:Come support our students\, all are welcome! \nServing after the 9am mass in the Assumption Catholic Church basement. \nBreakfast includes pancakes\, sausage\, juice\, and coffee. \n 
URL:https://stmarysmorris.com/event/pancake-breakfast/2025-01-26/
ATTACH;FMTTYPE=image/jpeg:https://stmarysmorris.com/wp-content/uploads/2024/08/Pancake-Breakfasts.jpg
END:VEVENT
BEGIN:VEVENT
DTSTART;VALUE=DATE:20250126
DTEND;VALUE=DATE:20250202
DTSTAMP:20260422T055415
CREATED:20240709T155300Z
LAST-MODIFIED:20240709T155300Z
UID:10000040-1737849600-1738454399@stmarysmorris.com
SUMMARY:Catholic Schools Week
DESCRIPTION:
URL:https://stmarysmorris.com/event/catholic-schools-week/
ATTACH;FMTTYPE=image/jpeg:https://stmarysmorris.com/wp-content/uploads/2024/04/312649486_796248661739977_8564451599554380971_n-2.jpg
END:VEVENT
BEGIN:VEVENT
DTSTART;VALUE=DATE:20250120
DTEND;VALUE=DATE:20250121
DTSTAMP:20260422T055415
CREATED:20240709T155203Z
LAST-MODIFIED:20240709T155203Z
UID:10000039-1737331200-1737417599@stmarysmorris.com
SUMMARY:Teacher Work Day - No School
DESCRIPTION:
URL:https://stmarysmorris.com/event/teacher-work-day-no-school-2/
ATTACH;FMTTYPE=image/jpeg:https://stmarysmorris.com/wp-content/uploads/2024/07/AdobeStock_270104879.jpg
END:VEVENT
BEGIN:VEVENT
DTSTART;VALUE=DATE:20250120
DTEND;VALUE=DATE:20250121
DTSTAMP:20260422T055415
CREATED:20240709T151942Z
LAST-MODIFIED:20240709T151942Z
UID:10000016-1737331200-1737417599@stmarysmorris.com
SUMMARY:Martin Luther King\, Jr.\, Day
DESCRIPTION:
URL:https://stmarysmorris.com/event/martin-luther-king-jr-day/
ATTACH;FMTTYPE=image/jpeg:https://stmarysmorris.com/wp-content/uploads/2024/07/unseen-histories-G2vxuMlATxA-unsplash.jpg
END:VEVENT
BEGIN:VEVENT
DTSTART;VALUE=DATE:20250117
DTEND;VALUE=DATE:20250118
DTSTAMP:20260422T055415
CREATED:20240709T154415Z
LAST-MODIFIED:20241212T202413Z
UID:10000031-1737072000-1737158399@stmarysmorris.com
SUMMARY:End of Quarter
DESCRIPTION:
URL:https://stmarysmorris.com/event/end-of-quarter-2/
ATTACH;FMTTYPE=image/jpeg:https://stmarysmorris.com/wp-content/uploads/2024/07/apple-256261_1280.jpg
END:VEVENT
BEGIN:VEVENT
DTSTART;VALUE=DATE:20250108
DTEND;VALUE=DATE:20250109
DTSTAMP:20260422T055415
CREATED:20240709T155126Z
LAST-MODIFIED:20240709T155126Z
UID:10000038-1736294400-1736380799@stmarysmorris.com
SUMMARY:Early Out (12:20pm)
DESCRIPTION:
URL:https://stmarysmorris.com/event/early-out-1220pm-5/
ATTACH;FMTTYPE=image/jpeg:https://stmarysmorris.com/wp-content/uploads/2024/02/event2.jpg
END:VEVENT
BEGIN:VEVENT
DTSTART;VALUE=DATE:20250101
DTEND;VALUE=DATE:20250102
DTSTAMP:20260422T055415
CREATED:20240709T151827Z
LAST-MODIFIED:20240709T151827Z
UID:10000015-1735689600-1735775999@stmarysmorris.com
SUMMARY:New Year's Day
DESCRIPTION:
URL:https://stmarysmorris.com/event/new-years-day/
ATTACH;FMTTYPE=image/jpeg:https://stmarysmorris.com/wp-content/uploads/2024/07/kelly-sikkema-PXl_S152jNM-unsplash.jpg
END:VEVENT
BEGIN:VEVENT
DTSTART;VALUE=DATE:20241225
DTEND;VALUE=DATE:20241226
DTSTAMP:20260422T055415
CREATED:20240709T151806Z
LAST-MODIFIED:20240709T151806Z
UID:10000014-1735084800-1735171199@stmarysmorris.com
SUMMARY:Christmas
DESCRIPTION:
URL:https://stmarysmorris.com/event/christmas/
ATTACH;FMTTYPE=image/jpeg:https://stmarysmorris.com/wp-content/uploads/2024/07/myriam-zilles-VCD30upyhc8-unsplash.jpg
END:VEVENT
BEGIN:VEVENT
DTSTART;VALUE=DATE:20241223
DTEND;VALUE=DATE:20250102
DTSTAMP:20260422T055415
CREATED:20240709T155056Z
LAST-MODIFIED:20240709T155056Z
UID:10000037-1734912000-1735775999@stmarysmorris.com
SUMMARY:No School
DESCRIPTION:
URL:https://stmarysmorris.com/event/no-school-3/
ATTACH;FMTTYPE=image/jpeg:https://stmarysmorris.com/wp-content/uploads/2024/07/AdobeStock_270104879.jpg
END:VEVENT
BEGIN:VEVENT
DTSTART;VALUE=DATE:20241220
DTEND;VALUE=DATE:20241221
DTSTAMP:20260422T055415
CREATED:20240709T155016Z
LAST-MODIFIED:20240709T155016Z
UID:10000036-1734652800-1734739199@stmarysmorris.com
SUMMARY:Early Out (12:20pm)
DESCRIPTION:
URL:https://stmarysmorris.com/event/early-out-1220pm-4/
ATTACH;FMTTYPE=image/jpeg:https://stmarysmorris.com/wp-content/uploads/2024/02/event2.jpg
END:VEVENT
BEGIN:VEVENT
DTSTART;VALUE=DATE:20241217
DTEND;VALUE=DATE:20241218
DTSTAMP:20260422T055415
CREATED:20240709T151341Z
LAST-MODIFIED:20240709T151341Z
UID:10000013-1734393600-1734479999@stmarysmorris.com
SUMMARY:Christmas Concert
DESCRIPTION:
URL:https://stmarysmorris.com/event/christmas-concert/
ATTACH;FMTTYPE=image/jpeg:https://stmarysmorris.com/wp-content/uploads/2024/07/little-plant-fuSo6oCr2Cc-unsplash.jpg
END:VEVENT
BEGIN:VEVENT
DTSTART;TZID=America/Chicago:20241208T100000
DTEND;TZID=America/Chicago:20241208T110000
DTSTAMP:20260422T055415
CREATED:20240814T154657Z
LAST-MODIFIED:20240814T154657Z
UID:10000053-1733652000-1733655600@stmarysmorris.com
SUMMARY:Pancake Breakfast
DESCRIPTION:Come support our students\, all are welcome! \nServing after the 9am mass in the Assumption Catholic Church basement. \nBreakfast includes pancakes\, sausage\, juice\, and coffee. \n 
URL:https://stmarysmorris.com/event/pancake-breakfast/2024-12-08/
ATTACH;FMTTYPE=image/jpeg:https://stmarysmorris.com/wp-content/uploads/2024/08/Pancake-Breakfasts.jpg
END:VEVENT
BEGIN:VEVENT
DTSTART;TZID=America/Chicago:20241205T171500
DTEND;TZID=America/Chicago:20241205T190000
DTSTAMP:20260422T055415
CREATED:20241029T182719Z
LAST-MODIFIED:20241029T182916Z
UID:10000060-1733418900-1733425200@stmarysmorris.com
SUMMARY:Family Fun Night
DESCRIPTION:St. Mary’s students and families are welcome to attend a holiday themed Family Fun Night at St. Mary’s School.
URL:https://stmarysmorris.com/event/1231/
ATTACH;FMTTYPE=image/jpeg:https://stmarysmorris.com/wp-content/uploads/2024/10/SMS-FFN.jpg
END:VEVENT
BEGIN:VEVENT
DTSTART;VALUE=DATE:20241128
DTEND;VALUE=DATE:20241130
DTSTAMP:20260422T055415
CREATED:20240709T154948Z
LAST-MODIFIED:20240709T154948Z
UID:10000035-1732752000-1732924799@stmarysmorris.com
SUMMARY:No School
DESCRIPTION:
URL:https://stmarysmorris.com/event/no-school-2/
ATTACH;FMTTYPE=image/jpeg:https://stmarysmorris.com/wp-content/uploads/2024/07/AdobeStock_270104879.jpg
END:VEVENT
BEGIN:VEVENT
DTSTART;VALUE=DATE:20241128
DTEND;VALUE=DATE:20241129
DTSTAMP:20260422T055415
CREATED:20240709T151312Z
LAST-MODIFIED:20240709T151312Z
UID:10000012-1732752000-1732838399@stmarysmorris.com
SUMMARY:Thanksgiving Day
DESCRIPTION:
URL:https://stmarysmorris.com/event/thanksgiving-day/
ATTACH;FMTTYPE=image/jpeg:https://stmarysmorris.com/wp-content/uploads/2024/07/thanksgiving-dinner-7600226_1280.jpg
END:VEVENT
BEGIN:VEVENT
DTSTART;VALUE=DATE:20241127
DTEND;VALUE=DATE:20241128
DTSTAMP:20260422T055415
CREATED:20240709T153735Z
LAST-MODIFIED:20240709T153835Z
UID:10000029-1732665600-1732751999@stmarysmorris.com
SUMMARY:Early Out (12:20pm)
DESCRIPTION:
URL:https://stmarysmorris.com/event/early-out-1220pm-3/
ATTACH;FMTTYPE=image/jpeg:https://stmarysmorris.com/wp-content/uploads/2024/02/event2.jpg
END:VEVENT
BEGIN:VEVENT
DTSTART;TZID=America/Chicago:20241111T080000
DTEND;TZID=America/Chicago:20241111T170000
DTSTAMP:20260422T055415
CREATED:20240709T151246Z
LAST-MODIFIED:20240709T151246Z
UID:10000011-1731312000-1731344400@stmarysmorris.com
SUMMARY:Veterans Day
DESCRIPTION:
URL:https://stmarysmorris.com/event/veterans-day/
ATTACH;FMTTYPE=image/jpeg:https://stmarysmorris.com/wp-content/uploads/2024/07/memorial-day-1798725_1280.jpg
END:VEVENT
BEGIN:VEVENT
DTSTART;VALUE=DATE:20241108
DTEND;VALUE=DATE:20241109
DTSTAMP:20260422T055415
CREATED:20240709T154859Z
LAST-MODIFIED:20240709T154859Z
UID:10000034-1731024000-1731110399@stmarysmorris.com
SUMMARY:No School
DESCRIPTION:
URL:https://stmarysmorris.com/event/no-school/
ATTACH;FMTTYPE=image/jpeg:https://stmarysmorris.com/wp-content/uploads/2024/07/AdobeStock_270104879.jpg
END:VEVENT
BEGIN:VEVENT
DTSTART;VALUE=DATE:20241107
DTEND;VALUE=DATE:20241108
DTSTAMP:20260422T055415
CREATED:20240709T151218Z
LAST-MODIFIED:20240709T154816Z
UID:10000010-1730937600-1731023999@stmarysmorris.com
SUMMARY:Parent Teacher Conferences - No School
DESCRIPTION:
URL:https://stmarysmorris.com/event/parent-teacher-conferences/
ATTACH;FMTTYPE=image/jpeg:https://stmarysmorris.com/wp-content/uploads/2024/07/amy-hirschi-JaoVGh5aJ3E-unsplash.jpg
END:VEVENT
BEGIN:VEVENT
DTSTART;VALUE=DATE:20241101
DTEND;VALUE=DATE:20241102
DTSTAMP:20260422T055415
CREATED:20240709T154750Z
LAST-MODIFIED:20240709T154750Z
UID:10000033-1730419200-1730505599@stmarysmorris.com
SUMMARY:Teacher Work Day - No School
DESCRIPTION:
URL:https://stmarysmorris.com/event/teacher-work-day-no-school/
ATTACH;FMTTYPE=image/jpeg:https://stmarysmorris.com/wp-content/uploads/2024/07/AdobeStock_270104879.jpg
END:VEVENT
BEGIN:VEVENT
DTSTART;VALUE=DATE:20241031
DTEND;VALUE=DATE:20241101
DTSTAMP:20260422T055415
CREATED:20240709T154346Z
LAST-MODIFIED:20240709T154346Z
UID:10000030-1730332800-1730419199@stmarysmorris.com
SUMMARY:End of Quarter
DESCRIPTION:
URL:https://stmarysmorris.com/event/end-of-quarter/
ATTACH;FMTTYPE=image/jpeg:https://stmarysmorris.com/wp-content/uploads/2024/07/apple-256261_1280.jpg
END:VEVENT
BEGIN:VEVENT
DTSTART;VALUE=DATE:20241017
DTEND;VALUE=DATE:20241019
DTSTAMP:20260422T055415
CREATED:20240709T151145Z
LAST-MODIFIED:20240709T154005Z
UID:10000009-1729123200-1729295999@stmarysmorris.com
SUMMARY:Education MN Break - No School
DESCRIPTION:
URL:https://stmarysmorris.com/event/education-mn-break/
ATTACH;FMTTYPE=image/jpeg:https://stmarysmorris.com/wp-content/uploads/2024/07/AdobeStock_270104879.jpg
END:VEVENT
END:VCALENDAR